BEGIN:VCALENDAR
VERSION:2.0
PRODID:-//AliPlev Art &amp; Design - ECPv6.15.20//NONSGML v1.0//EN
CALSCALE:GREGORIAN
METHOD:PUBLISH
X-WR-CALNAME:AliPlev Art &amp; Design
X-ORIGINAL-URL:https://www.aliplevartanddesign.com
X-WR-CALDESC:Events for AliPlev Art &amp; Design
REFRESH-INTERVAL;VALUE=DURATION:PT1H
X-Robots-Tag:noindex
X-PUBLISHED-TTL:PT1H
BEGIN:VTIMEZONE
TZID:America/New_York
BEGIN:DAYLIGHT
TZOFFSETFROM:-0500
TZOFFSETTO:-0400
TZNAME:EDT
DTSTART:20130310T070000
END:DAYLIGHT
BEGIN:STANDARD
TZOFFSETFROM:-0400
TZOFFSETTO:-0500
TZNAME:EST
DTSTART:20131103T060000
END:STANDARD
BEGIN:DAYLIGHT
TZOFFSETFROM:-0500
TZOFFSETTO:-0400
TZNAME:EDT
DTSTART:20140309T070000
END:DAYLIGHT
BEGIN:STANDARD
TZOFFSETFROM:-0400
TZOFFSETTO:-0500
TZNAME:EST
DTSTART:20141102T060000
END:STANDARD
BEGIN:DAYLIGHT
TZOFFSETFROM:-0500
TZOFFSETTO:-0400
TZNAME:EDT
DTSTART:20150308T070000
END:DAYLIGHT
BEGIN:STANDARD
TZOFFSETFROM:-0400
TZOFFSETTO:-0500
TZNAME:EST
DTSTART:20151101T060000
END:STANDARD
END:VTIMEZONE
BEGIN:VEVENT
DTSTART;TZID=America/New_York:20141214T170000
DTEND;TZID=America/New_York:20141214T190000
DTSTAMP:20260423T132427
CREATED:20141103T035118Z
LAST-MODIFIED:20141103T035118Z
UID:39-1418576400-1418583600@www.aliplevartanddesign.com
SUMMARY:LeDuc Historic Estate Victorian Holiday Dinner
DESCRIPTION:
URL:https://www.aliplevartanddesign.com/event/leduc-historic-estate-victorian-holiday-dinner/
LOCATION:LeDuc Historic Estate\, 1629 Vermillion St\, Hastings\, MN\, 55033\, United States
END:VEVENT
BEGIN:VEVENT
DTSTART;TZID=America/New_York:20141104T183000
DTEND;TZID=America/New_York:20141104T193000
DTSTAMP:20260423T132427
CREATED:20141103T221929Z
LAST-MODIFIED:20141103T221929Z
UID:46-1415125800-1415129400@www.aliplevartanddesign.com
SUMMARY:Writing Group
DESCRIPTION:
URL:https://www.aliplevartanddesign.com/event/writing-group/
LOCATION:LeDuc Historic Estate\, 1629 Vermillion St\, Hastings\, MN\, 55033\, United States
END:VEVENT
END:VCALENDAR